BEGIN:VCALENDAR
VERSION:2.0
PRODID:-//Sabre//Sabre VObject 4.5.8//EN
CALSCALE:GREGORIAN
BEGIN:VEVENT
UID:sabre-vobject-a8ed3548-9cd6-43c7-ad47-fda379584bf0
DTSTAMP:20260423T103622Z
SUMMARY:Weihnachtsmarkt auf dem Schrannenplatz
DESCRIPTION:https://neuburg-ist-kultur.de/sommerakademie/kursangebot/weihna
 chtsmarkt-auf-dem-schrannenplatz_id38770
DTSTART;TZID=Europe/Berlin:20251212T150000
DTEND;TZID=Europe/Berlin:20251212T200000
LOCATION:Schrannenplatz\, Schrannenplatz\, 86633 Neuburg an der Donau
END:VEVENT
END:VCALENDAR
