BEGIN:VCALENDAR
VERSION:2.0
PRODID:-//Sabre//Sabre VObject 4.5.8//EN
CALSCALE:GREGORIAN
BEGIN:VEVENT
UID:sabre-vobject-235e7e39-6fad-4963-af6a-f0ac3dabe1f8
DTSTAMP:20260422T141145Z
SUMMARY:Stefanie Pojar - Experimentelle Druckgrafik - Woche 1+2
DESCRIPTION:https://neuburg-ist-kultur.de/sommerakademie/kursangebot/stefan
 ie-pojar-experimentelle-druckgrafik-woche-1-2_id40272
DTSTART;TZID=Europe/Berlin:20260802T000000
DTEND;TZID=Europe/Berlin:20260815T000000
LOCATION:Obere Altstadt Neuburg
END:VEVENT
END:VCALENDAR
