BEGIN:VCALENDAR
VERSION:2.0
PRODID:-//Sabre//Sabre VObject 4.5.8//EN
CALSCALE:GREGORIAN
BEGIN:VEVENT
UID:sabre-vobject-9670d733-a13b-498d-afbc-d34876e815fd
DTSTAMP:20260422T160319Z
SUMMARY:Stefanie Pojar - Druck - Woche 1
DESCRIPTION:https://neuburg-ist-kultur.de/sommerakademie/kursangebot/stefan
 ie-pojar-druck-woche-1_id40273
DTSTART;TZID=Europe/Berlin:20260802T000000
DTEND;TZID=Europe/Berlin:20260808T000000
LOCATION:Obere Altstadt Neuburg
END:VEVENT
END:VCALENDAR
