BEGIN:VCALENDAR
VERSION:2.0
PRODID:-//Sabre//Sabre VObject 4.5.8//EN
CALSCALE:GREGORIAN
BEGIN:VEVENT
UID:sabre-vobject-3107e633-75f8-4f38-b54a-610f4b28d426
DTSTAMP:20260422T154212Z
SUMMARY:Stefanie Pojar - Druck - Woche 2
DESCRIPTION:https://neuburg-ist-kultur.de/sommerakademie/kursangebot/stefan
 ie-pojar-druck-woche-2_id40274
DTSTART;TZID=Europe/Berlin:20260810T000000
DTEND;TZID=Europe/Berlin:20260815T000000
LOCATION:Obere Altstadt Neuburg
END:VEVENT
END:VCALENDAR
