BEGIN:VCALENDAR
VERSION:2.0
PRODID:-//Sabre//Sabre VObject 4.5.8//EN
CALSCALE:GREGORIAN
BEGIN:VEVENT
UID:sabre-vobject-db3dbea9-ca0a-41b1-8f52-348b7ec737b0
DTSTAMP:20260424T114028Z
SUMMARY:Katrin Schöß - Zeichnen und Malen unter freiem Himmel - Woche 1+2
DESCRIPTION:https://neuburg-ist-kultur.de/sommerakademie/kursangebot/katrin
 -schoess-zeichnen-und-malen-unter-freiem-himmel-woche-1-2_id40279
DTSTART;TZID=Europe/Berlin:20260802T000000
DTEND;TZID=Europe/Berlin:20260815T000000
LOCATION:Obere Altstadt Neuburg
END:VEVENT
END:VCALENDAR
