BEGIN:VCALENDAR
VERSION:2.0
PRODID:-//Sabre//Sabre VObject 4.5.8//EN
CALSCALE:GREGORIAN
BEGIN:VEVENT
UID:sabre-vobject-573ac7f5-cc35-422c-9ddc-21623919ac05
DTSTAMP:20260424T132907Z
SUMMARY:Katrin Schoess- Landschaft und Architektur - Zeichnen und Malen unt
 er freiem Himmel - Woche 1
DESCRIPTION:https://neuburg-ist-kultur.de/sommerakademie/kursangebot/katrin
 -schoess-landschaft-und-architektur-zeichnen-und-malen-unter-freiem-himmel
 -woche-1_id40280
DTSTART;TZID=Europe/Berlin:20260802T000000
DTEND;TZID=Europe/Berlin:20260808T000000
LOCATION:Obere Altstadt Neuburg
END:VEVENT
END:VCALENDAR
