BEGIN:VCALENDAR
VERSION:2.0
PRODID:-//Sabre//Sabre VObject 4.5.8//EN
CALSCALE:GREGORIAN
BEGIN:VEVENT
UID:sabre-vobject-5c01d45b-c572-4176-8c8e-a610117636e9
DTSTAMP:20260422T090037Z
SUMMARY:Einstimmung auf die Raunächte – Rückzug der Natur
DESCRIPTION:https://neuburg-ist-kultur.de/sommerakademie/kursangebot/einsti
 mmung-auf-die-raunaechte-rueckzug-der-natur_id41948
DTSTART;TZID=Europe/Berlin:20251213T170000
DTEND;TZID=Europe/Berlin:20251213T200000
LOCATION:Treffpunkt wird bei Anmeldung bekannt gegeben
END:VEVENT
END:VCALENDAR
