BEGIN:VCALENDAR
VERSION:2.0
PRODID:-//Sabre//Sabre VObject 4.5.8//EN
CALSCALE:GREGORIAN
BEGIN:VEVENT
UID:sabre-vobject-1540b9c4-15c9-47d3-b3fc-3a934ed95fcb
DTSTAMP:20260424T113412Z
SUMMARY:LesBar
DESCRIPTION:https://neuburg-ist-kultur.de/sommerakademie/kursangebot/lesbar
 _id42502
DTSTART;TZID=Europe/Berlin:20250306T190000
DTEND;TZID=Europe/Berlin:20250306T203000
LOCATION:Stadtbücherei im Bücherturm
END:VEVENT
END:VCALENDAR
