BEGIN:VCALENDAR
VERSION:2.0
PRODID:-//Sabre//Sabre VObject 4.5.8//EN
CALSCALE:GREGORIAN
BEGIN:VEVENT
UID:sabre-vobject-d882bbbf-3f3a-4a14-8a41-45e693e1af0c
DTSTAMP:20260422T020216Z
SUMMARY:LesBar
DESCRIPTION:https://neuburg-ist-kultur.de/sommerakademie/kursangebot/lesbar
 _id42503
DTSTART;TZID=Europe/Berlin:20250403T190000
DTEND;TZID=Europe/Berlin:20250403T203000
LOCATION:Stadtbücherei im Bücherturm
END:VEVENT
END:VCALENDAR
