BEGIN:VCALENDAR
VERSION:2.0
PRODID:-//Sabre//Sabre VObject 4.5.8//EN
CALSCALE:GREGORIAN
BEGIN:VEVENT
UID:sabre-vobject-12f6513f-3864-4b08-825c-bc2524454c2c
DTSTAMP:20260424T132844Z
SUMMARY:Anna-Maria Kursawe - Malerei - Über das Verhältnis von Gegenstän
 dlichkeit und Abstraktion - Woche 1+2
DESCRIPTION:https://neuburg-ist-kultur.de/sommerakademie/kursangebot/anna-m
 aria-kursawe-malerei-ueber-das-verhaeltnis-von-gegenstaendlichkeit-und-abs
 traktion-woche-1-2_id4384
DTSTART;TZID=Europe/Berlin:20260802T000000
DTEND;TZID=Europe/Berlin:20260815T000000
LOCATION:Obere Altstadt Neuburg
END:VEVENT
END:VCALENDAR
