BEGIN:VCALENDAR
VERSION:2.0
PRODID:-//Sabre//Sabre VObject 4.5.8//EN
CALSCALE:GREGORIAN
BEGIN:VEVENT
UID:sabre-vobject-987bbe4a-9ec9-457a-ae2f-f44722cf1988
DTSTAMP:20260424T100139Z
SUMMARY:Yke Prins - Skulptur & Objekt - Woche 1+2
DESCRIPTION:https://neuburg-ist-kultur.de/sommerakademie/kursangebot/yke-pr
 ins-skulptur-objekt-woche-1-2_id4401
DTSTART;TZID=Europe/Berlin:20260802T000000
DTEND;TZID=Europe/Berlin:20260815T000000
LOCATION:Obere Altstadt Neuburg
END:VEVENT
END:VCALENDAR
