BEGIN:VCALENDAR
VERSION:2.0
PRODID:-//Sabre//Sabre VObject 4.5.8//EN
CALSCALE:GREGORIAN
BEGIN:VEVENT
UID:sabre-vobject-b37fee3a-6f62-4441-8f1c-d44aacd221e6
DTSTAMP:20260424T113658Z
SUMMARY:Yke Prins - Skulptur & Objekt - Woche 2
DESCRIPTION:https://neuburg-ist-kultur.de/sommerakademie/kursangebot/yke-pr
 ins-skulptur-objekt-woche-2_id4404
DTSTART;TZID=Europe/Berlin:20260810T000000
DTEND;TZID=Europe/Berlin:20260815T000000
LOCATION:Obere Altstadt Neuburg
END:VEVENT
END:VCALENDAR
