BEGIN:VCALENDAR
VERSION:2.0
PRODID:-//Sabre//Sabre VObject 4.5.8//EN
CALSCALE:GREGORIAN
BEGIN:VEVENT
UID:sabre-vobject-a1caf012-b735-4b90-914f-1db3fa01e193
DTSTAMP:20260425T141018Z
SUMMARY:Xenia Löffler - Barockoboe
DESCRIPTION:https://neuburg-ist-kultur.de/sommerakademie/kursangebot/xenia-
 loeffler-barockoboe_id4488
DTSTART;TZID=Europe/Berlin:20260810T000000
DTEND;TZID=Europe/Berlin:20260815T000000
LOCATION:Volkshochschule Neuburg an der Donau e.V.\, Franziskanerstraße B 
 200\, 86633 Neuburg an der Donau
END:VEVENT
END:VCALENDAR
