BEGIN:VCALENDAR
VERSION:2.0
PRODID:-//Sabre//Sabre VObject 4.5.8//EN
CALSCALE:GREGORIAN
BEGIN:VEVENT
UID:sabre-vobject-d096269a-31da-4dac-8584-a013c70f81c5
DTSTAMP:20260423T122229Z
SUMMARY:Traumtheater Stelzenläufer
DESCRIPTION:https://neuburg-ist-kultur.de/sommerakademie/kursangebot/traumt
 heater-stelzenlaeufer_id50161
DTSTART;TZID=Europe/Berlin:20251212T183000
DURATION:PT30M
LOCATION:Schrannenplatz\, Schrannenplatz\, 86633 Neuburg an der Donau
END:VEVENT
END:VCALENDAR
