BEGIN:VCALENDAR
VERSION:2.0
PRODID:-//Sabre//Sabre VObject 4.5.8//EN
CALSCALE:GREGORIAN
BEGIN:VEVENT
UID:sabre-vobject-409dfafc-b3a0-4e7d-84f5-f10bebc5a3fa
DTSTAMP:20260423T142009Z
SUMMARY:Duo Laura Kopischke & Emilia Butsch
DESCRIPTION:https://neuburg-ist-kultur.de/sommerakademie/kursangebot/duo-la
 ura-kopischke-emilia-butsch_id50162
DTSTART;TZID=Europe/Berlin:20251212T190000
DURATION:PT30M
LOCATION:Schrannenplatz\, Schrannenplatz\, 86633 Neuburg an der Donau
END:VEVENT
END:VCALENDAR
