BEGIN:VCALENDAR
VERSION:2.0
PRODID:-//Sabre//Sabre VObject 4.5.8//EN
CALSCALE:GREGORIAN
BEGIN:VEVENT
UID:sabre-vobject-93b1a895-7cce-4e3d-9ee7-62066d4838a2
DTSTAMP:20260423T222303Z
SUMMARY:Barock bis Rock 2026
DESCRIPTION:https://neuburg-ist-kultur.de/sommerakademie/kursangebot/barock
 -bis-rock-2026_id50290
DTSTART;TZID=Europe/Berlin:20260724T193000
DTEND;TZID=Europe/Berlin:20260724T235900
LOCATION:Stadtmuseum Neuburg an der Donau\, Amalienstraße  19\, 86633 Neub
 urg an der Donau
END:VEVENT
END:VCALENDAR
