BEGIN:VCALENDAR
VERSION:2.0
PRODID:-//Sabre//Sabre VObject 4.5.8//EN
CALSCALE:GREGORIAN
BEGIN:VEVENT
UID:sabre-vobject-d6111174-6b21-42c6-90de-3e1b925a6fbb
DTSTAMP:20260423T222458Z
SUMMARY:Barock bis Rock 2026
DESCRIPTION:https://neuburg-ist-kultur.de/sommerakademie/kursangebot/barock
 -bis-rock-2026_id50294
DTSTART;TZID=Europe/Berlin:20260725T193000
DTEND;TZID=Europe/Berlin:20260725T235900
LOCATION:Stadtmuseum Neuburg an der Donau\, Amalienstraße  19\, 86633 Neub
 urg an der Donau
END:VEVENT
END:VCALENDAR
