BEGIN:VCALENDAR
VERSION:2.0
PRODID:-//Sabre//Sabre VObject 4.5.8//EN
CALSCALE:GREGORIAN
BEGIN:VEVENT
UID:sabre-vobject-5e0c663c-f24c-47ab-aa4b-fbf5e6b96b07
DTSTAMP:20260423T172617Z
SUMMARY:Die kleine Raupe
DESCRIPTION:https://neuburg-ist-kultur.de/sommerakademie/kursangebot/die-kl
 eine-raupe_id50533
DTSTART;TZID=Europe/Berlin:20260418T160000
DTEND;TZID=Europe/Berlin:20260418T164000
LOCATION:Neuburger Marionettentheater\, Amalienstraße 8\, 86633 Neuburg an
  der Donau
END:VEVENT
END:VCALENDAR
