BEGIN:VCALENDAR
VERSION:2.0
PRODID:-//Sabre//Sabre VObject 4.5.8//EN
CALSCALE:GREGORIAN
BEGIN:VEVENT
UID:sabre-vobject-420acc3d-6579-4530-a7f1-07b053f3f14f
DTSTAMP:20260423T155604Z
SUMMARY:Die kleine Raupe
DESCRIPTION:https://neuburg-ist-kultur.de/sommerakademie/kursangebot/die-kl
 eine-raupe_id50535
DTSTART;TZID=Europe/Berlin:20260419T160000
DTEND;TZID=Europe/Berlin:20260419T164000
LOCATION:Neuburger Marionettentheater\, Amalienstraße 8\, 86633 Neuburg an
  der Donau
END:VEVENT
END:VCALENDAR
