BEGIN:VCALENDAR
VERSION:2.0
PRODID:-//Sabre//Sabre VObject 4.5.8//EN
CALSCALE:GREGORIAN
BEGIN:VEVENT
UID:sabre-vobject-5172f08c-efa7-472e-9d9d-1506bb67ec50
DTSTAMP:20260423T141231Z
SUMMARY:Die kleine Raupe
DESCRIPTION:https://neuburg-ist-kultur.de/sommerakademie/kursangebot/die-kl
 eine-raupe_id50539
DTSTART;TZID=Europe/Berlin:20260517T160000
DTEND;TZID=Europe/Berlin:20260517T164000
LOCATION:Neuburger Marionettentheater\, Amalienstraße 8\, 86633 Neuburg an
  der Donau
END:VEVENT
END:VCALENDAR
