BEGIN:VCALENDAR
VERSION:2.0
PRODID:-//Sabre//Sabre VObject 4.5.8//EN
CALSCALE:GREGORIAN
BEGIN:VEVENT
UID:sabre-vobject-1431ce04-f421-4da9-a503-8099ddda423f
DTSTAMP:20260422T145753Z
SUMMARY:Licht wird alles\, was ich fasse 
DESCRIPTION:https://neuburg-ist-kultur.de/sommerakademie/kursangebot/licht-
 wird-alles-was-ich-fasse_id50938
DTSTART;TZID=Europe/Berlin:20260312T170000
DTEND;TZID=Europe/Berlin:20260312T190000
LOCATION:Städtische Galerie im Rathausfletz\, Karlsplatz A 12\, 86633 Neub
 urg an der Donau
END:VEVENT
END:VCALENDAR
