BEGIN:VCALENDAR
VERSION:2.0
PRODID:-//Sabre//Sabre VObject 4.5.8//EN
CALSCALE:GREGORIAN
BEGIN:VEVENT
UID:sabre-vobject-39f5f897-56b1-4ba5-a20b-64821dee15bc
DTSTAMP:20260422T131002Z
SUMMARY:Licht wird alles\, was ich fasse 
DESCRIPTION:https://neuburg-ist-kultur.de/sommerakademie/kursangebot/licht-
 wird-alles-was-ich-fasse_id50943
DTSTART;TZID=Europe/Berlin:20260313T170000
DTEND;TZID=Europe/Berlin:20260313T190000
LOCATION:Städtische Galerie im Rathausfletz\, Karlsplatz A 12\, 86633 Neub
 urg an der Donau
END:VEVENT
END:VCALENDAR
