BEGIN:VCALENDAR
VERSION:2.0
PRODID:-//Sabre//Sabre VObject 4.5.8//EN
CALSCALE:GREGORIAN
BEGIN:VEVENT
UID:sabre-vobject-08f594ad-27dc-403e-98cf-25b5a9dab513
DTSTAMP:20260422T105402Z
SUMMARY:Licht wird alles\, was ich fasse 
DESCRIPTION:https://neuburg-ist-kultur.de/sommerakademie/kursangebot/licht-
 wird-alles-was-ich-fasse_id50948
DTSTART;TZID=Europe/Berlin:20260314T110000
DTEND;TZID=Europe/Berlin:20260314T190000
LOCATION:Städtische Galerie im Rathausfletz\, Karlsplatz A 12\, 86633 Neub
 urg an der Donau
END:VEVENT
END:VCALENDAR
