BEGIN:VCALENDAR
VERSION:2.0
PRODID:-//Sabre//Sabre VObject 4.5.8//EN
CALSCALE:GREGORIAN
BEGIN:VEVENT
UID:sabre-vobject-18b116a1-106f-49ce-b785-8f89d5a985f7
DTSTAMP:20260422T144643Z
SUMMARY:Maurice Elie Sarthou - Bilder
DESCRIPTION:https://neuburg-ist-kultur.de/sommerakademie/kursangebot/mauric
 e-elie-sarthou-bilder_id51664
DTSTART;TZID=Europe/Berlin:20260620T113000
DTEND;TZID=Europe/Berlin:20260620T190000
LOCATION:Städtische Galerie im Rathausfletz\, Karlsplatz A 12\, 86633 Neub
 urg an der Donau
END:VEVENT
END:VCALENDAR
