BEGIN:VCALENDAR
VERSION:2.0
PRODID:-//Sabre//Sabre VObject 4.5.8//EN
CALSCALE:GREGORIAN
BEGIN:VEVENT
UID:sabre-vobject-12e8cf45-6ede-43e4-bc63-f27660719cb7
DTSTAMP:20260425T103019Z
SUMMARY:Des Kaisers neue Kleider
DESCRIPTION:https://neuburg-ist-kultur.de/sommerakademie/kursangebot/des-ka
 isers-neue-kleider_id52337
DTSTART;TZID=Europe/Berlin:20260613T160000
DTEND;TZID=Europe/Berlin:20260613T164500
LOCATION:Neuburger Marionettentheater\, Amalienstraße 8\, 86633 Neuburg an
  der Donau
END:VEVENT
END:VCALENDAR
