BEGIN:VCALENDAR
VERSION:2.0
PRODID:-//Sabre//Sabre VObject 4.5.8//EN
CALSCALE:GREGORIAN
BEGIN:VEVENT
UID:sabre-vobject-d9acc70f-2b94-4fbe-8530-6872518dd7d4
DTSTAMP:20260423T221941Z
SUMMARY:Nonsens
DESCRIPTION:https://neuburg-ist-kultur.de/sommerakademie/kursangebot/nonsen
 s_id52653
DTSTART;TZID=Europe/Berlin:20260515T160000
DTEND;TZID=Europe/Berlin:20260515T200000
LOCATION:Kunsthof Leidling\, Bidinger Straße 1\, 86666 Burgheim
END:VEVENT
END:VCALENDAR
